BEGIN:VCALENDAR
VERSION:2.0
PRODID:-//Framtidståget - ECPv6.15.20//NONSGML v1.0//EN
CALSCALE:GREGORIAN
METHOD:PUBLISH
X-ORIGINAL-URL:https://www.framtidstaget.se
X-WR-CALDESC:Händelser för Framtidståget
REFRESH-INTERVAL;VALUE=DURATION:PT1H
X-Robots-Tag:noindex
X-PUBLISHED-TTL:PT1H
BEGIN:VTIMEZONE
TZID:UTC
BEGIN:STANDARD
TZOFFSETFROM:+0000
TZOFFSETTO:+0000
TZNAME:UTC
DTSTART:20210101T000000
END:STANDARD
END:VTIMEZONE
BEGIN:VEVENT
DTSTART;VALUE=DATE:20250322
DTEND;VALUE=DATE:20250323
DTSTAMP:20260423T163239
CREATED:20250303T092600Z
LAST-MODIFIED:20250303T111801Z
UID:21289-1742601600-1742687999@www.framtidstaget.se
SUMMARY:Årsmöte
DESCRIPTION:
URL:https://www.framtidstaget.se/event/arsmote-2/
LOCATION:Framtidståget Föreningen\, Instrumentvägen 20\, Hägersten\, 126 53\, Sweden
CATEGORIES:möten
ATTACH;FMTTYPE=application/pdf:https://www.framtidstaget.se/wp-content/uploads/2025/03/arsmote.pdf
END:VEVENT
BEGIN:VEVENT
DTSTART;TZID=UTC:20241213T150000
DTEND;TZID=UTC:20241213T180000
DTSTAMP:20260423T163239
CREATED:20241002T093934Z
LAST-MODIFIED:20241022T231254Z
UID:21028-1734102000-1734112800@www.framtidstaget.se
SUMMARY:JulFika - Erasmus+ Alumni (Games and Mingle)
DESCRIPTION:Framtidståget Föreningen i samarbete med Erasmus + bjuder till Julfika och mingel för alla deltagare i programmet. \n\nNetworking  & Mingle\nGames & Fika (sweets and drinks)\nJoin Our New Projects for 2025\nMeet Our International Team\n\n🔗 Registrera dig för evenemanget via länken
URL:https://www.framtidstaget.se/event/julfika-erasmus-alumni-games-and-mingle/
LOCATION:Framtidståget Föreningen\, Instrumentvägen 20\, Hägersten\, 126 53\, Sweden
CATEGORIES:möten
ATTACH;FMTTYPE=image/png:https://www.framtidstaget.se/wp-content/uploads/2024/10/JULFIKA-FRAMTIDSTAGET.png
ORGANIZER;CN="Abderrahman Assorhani":MAILTO:abderrahman.a@framtidstaget.se
END:VEVENT
BEGIN:VEVENT
DTSTART;TZID=UTC:20240914T110000
DTEND;TZID=UTC:20240914T130000
DTSTAMP:20260423T163239
CREATED:20240826T143944Z
LAST-MODIFIED:20240826T150805Z
UID:19528-1726311600-1726318800@www.framtidstaget.se
SUMMARY:ExtraÅrsmöte
DESCRIPTION:Inbjudan till extra årsmöte den 14 september \nBästa medlemmar\, \nDu som är medlem i Föreningen Framtidståget har rätt att delta och rösta vid vårt extrainsatta årsmöte. Vid mötet kommer vi att behandla verksamheten som helhet\, inklusive styrelsearbetet för det första halvåret 2024. Vi kommer även att välja en ny styrelseordförande samt diskutera ett förslag till stadgeändring gällande föreningens firmateckning. \nVi ser fram emot ditt deltagande. \nYousef Yebari \nStyrelseledamot\, Föreningen Framtidståget
URL:https://www.framtidstaget.se/event/arsmote/
CATEGORIES:möten
ATTACH;FMTTYPE=image/png:https://www.framtidstaget.se/wp-content/uploads/2024/04/arsmote.png
END:VEVENT
BEGIN:VEVENT
DTSTART;VALUE=DATE:20230809
DTEND;VALUE=DATE:20230810
DTSTAMP:20260423T163239
CREATED:20200909T040225Z
LAST-MODIFIED:20240425T115456Z
UID:2057-1691539200-1691625599@www.framtidstaget.se
SUMMARY:Ungdomsbehandling
DESCRIPTION:Oh God\, my uncle. How am I ever gonna explain this? The plans you refer to will soon be back in our hands. I suggest you try it again\, Luke. This time\, let go your conscious self and act on instinct. I want to come with you to Alderaan. There’s nothing for me here now. I want to learn the ways of the Force and be a Jedi\, like my father before me. As you wish. I don’t know what you’re talking about. I am a member of the Imperial Senate on a diplomatic mission to Alderaan–
URL:https://www.framtidstaget.se/event/provide-pure-water-and-fresh-food-fo/
LOCATION:The Corn Palace\, Mitchell\, 57301\, United States
CATEGORIES:Education,Vaccine
ATTACH;FMTTYPE=image/jpeg:https://www.framtidstaget.se/wp-content/uploads/2020/09/vcn-post-1-min.jpg
ORGANIZER;CN="Sammy Sosa":MAILTO:baseball@hotmail.com
END:VEVENT
BEGIN:VEVENT
DTSTART;TZID=UTC:20230416T200000
DTEND;TZID=UTC:20230416T200000
DTSTAMP:20260423T163239
CREATED:20200909T040227Z
LAST-MODIFIED:20240427T084210Z
UID:2060-1681675200-1681675200@www.framtidstaget.se
SUMMARY:Use Hashtags To Support Online
DESCRIPTION:Well\, I got better. Ah\, now we see the violence inherent in the system! The swallow may fly south with the sun\, and the house martin or the plover may seek warmer climes in winter\, yet these are not strangers to our land. It’s only a model. It’s only a model.
URL:https://www.framtidstaget.se/event/use-hashtags-to-support-online/
LOCATION:Party Haus\, Los Angelos\, 90013\, United States
CATEGORIES:Children
ATTACH;FMTTYPE=image/jpeg:https://www.framtidstaget.se/wp-content/uploads/2020/09/give-5.jpg
ORGANIZER;CN="Famous Amos":MAILTO:cookies@aol.com
END:VEVENT
BEGIN:VEVENT
DTSTART;TZID=UTC:20230310T100000
DTEND;TZID=UTC:20230310T100000
DTSTAMP:20260423T163239
CREATED:20200909T040220Z
LAST-MODIFIED:20220811T135931Z
UID:2054-1678442400-1678442400@www.framtidstaget.se
SUMMARY:Excitement From A Quote About Charity
DESCRIPTION:What’s the point of going out? We’re just going to wind up back here anyway. I’m going to the back seat of my car\, with the woman I love\, and I won’t be back for ten minutes! And now\, in the spirit of the season: start shopping. And for every dollar of Krusty merchandise you buy\, I will be nice to a sick kid. For legal purposes\, sick kids may include hookers with a cold. The Internet King? I wonder if he could provide faster nudity… Yes! I am a citizen! Now which way to the welfare office? I’m kidding\, I’m kidding. I work\, I work.
URL:https://www.framtidstaget.se/event/excitement-from-a-quote-about-charity/
LOCATION:Winchester Mystery House\, San Jose\, 95128\, United States
CATEGORIES:Education
ATTACH;FMTTYPE=image/jpeg:https://www.framtidstaget.se/wp-content/uploads/2020/09/give-3.jpg
END:VEVENT
BEGIN:VEVENT
DTSTART;TZID=UTC:20230113T180000
DTEND;TZID=UTC:20230113T180000
DTSTAMP:20260423T163239
CREATED:20200909T040219Z
LAST-MODIFIED:20220811T135919Z
UID:2053-1673632800-1673632800@www.framtidstaget.se
SUMMARY:Use Hashtags To Support Online
DESCRIPTION:Look\, my liege! Shut up! Will you shut up?! What a strange person. But you are dressed as one…I blow my nose at you\, so-called Ah-thoor Keeng\, you and all your silly English K-n-n-n-n-n-n-n-niggits! The Lady of the Lake\, her arm clad in the purest shimmering samite\, held aloft Excalibur from the bosom of the water\, signifying by divine providence that I\, Arthur\, was to carry Excalibur. That is why I am your king.
URL:https://www.framtidstaget.se/event/use-hashtags-to-support-online-2/
LOCATION:The Corn Palace\, Mitchell\, 57301\, United States
CATEGORIES:Children
ATTACH;FMTTYPE=image/jpeg:https://www.framtidstaget.se/wp-content/uploads/2020/09/give-17.jpg
ORGANIZER;CN="Mr. Ed":MAILTO:neigh@gmail.com
END:VEVENT
BEGIN:VEVENT
DTSTART;VALUE=DATE:20221117
DTEND;VALUE=DATE:20221118
DTSTAMP:20260423T163239
CREATED:20200909T040228Z
LAST-MODIFIED:20220811T135855Z
UID:2061-1668643200-1668729599@www.framtidstaget.se
SUMMARY:Help Charities Without Leaving Home
DESCRIPTION:Who’s that then? Shh! Knights\, I bid you welcome to your new home. Let us ride to Camelot! Ah\, now we see the violence inherent in the system! The Lady of the Lake\, her arm clad in the purest shimmering samite\, held aloft Excalibur from the bosom of the water\, signifying by divine providence that I\, Arthur\, was to carry Excalibur. That is why I am your king. Camelot!
URL:https://www.framtidstaget.se/event/help-charities-without-leaving-home-2/
LOCATION:Bamboo Fresh\, Lahaina\, 96761\, United States
CATEGORIES:Education
ATTACH;FMTTYPE=image/jpeg:https://www.framtidstaget.se/wp-content/uploads/2020/09/give16.jpg
END:VEVENT
BEGIN:VEVENT
DTSTART;TZID=UTC:20221013T153000
DTEND;TZID=UTC:20221013T153000
DTSTAMP:20260423T163239
CREATED:20200909T040219Z
LAST-MODIFIED:20220811T135844Z
UID:2052-1665675000-1665675000@www.framtidstaget.se
SUMMARY:UK Will Have School Lesson
DESCRIPTION:Why do you think that she is a witch? He hasn’t got stuff all over him. Well\, I didn’t vote for you. A newt? Look\, my liege! I don’t want to talk to you no more\, you empty-headed animal food trough water! I fart in your general direction! Your mother was a hamster and your father smelt of elderberries! Now leave before I am forced to taunt you a second time!
URL:https://www.framtidstaget.se/event/uk-will-have-school-lesson/
LOCATION:Krispy Kreme\, St. Louis\, 63129
CATEGORIES:Children,Vaccine
ATTACH;FMTTYPE=image/jpeg:https://www.framtidstaget.se/wp-content/uploads/2020/09/vcn-post-4-min.jpg
END:VEVENT
BEGIN:VEVENT
DTSTART;TZID=UTC:20220909T120000
DTEND;TZID=UTC:20220909T120000
DTSTAMP:20260423T163239
CREATED:20200909T040226Z
LAST-MODIFIED:20210814T045726Z
UID:2058-1662724800-1662724800@www.framtidstaget.se
SUMMARY:Provide Pure Water And Fresh Food For Syrian
DESCRIPTION:I have traced the Rebel spies to her. Now she is my only link to finding their secret base. What?! I care. So\, what do you think of her\, Han? The Force is strong with this one. I have you now. But with the blast shield down\, I can’t even see! How am I supposed to fight? Red Five standing by.
URL:https://www.framtidstaget.se/event/provide-pure-water-and-fresh-food-for-syrian/
LOCATION:Musee D’Orsay\, Paris\, 75007\, France
CATEGORIES:Helping
ATTACH;FMTTYPE=image/jpeg:https://www.framtidstaget.se/wp-content/uploads/2020/09/give-7.jpg
END:VEVENT
BEGIN:VEVENT
DTSTART;VALUE=DATE:20220614
DTEND;VALUE=DATE:20221217
DTSTAMP:20260423T163239
CREATED:20200909T040221Z
LAST-MODIFIED:20220811T135907Z
UID:2055-1655164800-1671235199@www.framtidstaget.se
SUMMARY:Help Charities Without Leaving Home
DESCRIPTION:I’ve done everything the Bible says — even the stuff that contradicts the other stuff! Our differences are only skin deep\, but our sames go down to the bone. And now\, in the spirit of the season: start shopping. And for every dollar of Krusty merchandise you buy\, I will be nice to a sick kid. For legal purposes\, sick kids may include hookers with a cold. And here I am using my own lungs like a sucker. What good is money if it can’t inspire terror in your fellow man? Homer no function beer well without.
URL:https://www.framtidstaget.se/event/help-charities-without-leaving-home/
LOCATION:Winchester Mystery House\, San Jose\, 95128\, United States
CATEGORIES:Education,Vaccine
ATTACH;FMTTYPE=image/jpeg:https://www.framtidstaget.se/wp-content/uploads/2020/09/vcn-post-2-min.jpg
ORGANIZER;CN="Barney Stinson":MAILTO:barney@legendary.com
END:VEVENT
BEGIN:VEVENT
DTSTART;TZID=UTC:20220114T170000
DTEND;TZID=UTC:20220114T170000
DTSTAMP:20260423T163239
CREATED:20200909T040221Z
LAST-MODIFIED:20210814T045806Z
UID:2056-1642179600-1642179600@www.framtidstaget.se
SUMMARY:Excitement From A Quote About Charity
DESCRIPTION:Dear Mr. President\, There are too many states nowadays. Please\, eliminate three. P.S. I am not a crackpot. You don’t win friends with salad. I’m a Spalding Gray in a Rick Dees world. D’oh. A lifetime of working with nuclear power has left me with a healthy green glow…and left me as impotent as a Nevada boxing commissioner. No children have ever meddled with the Republican Party and lived to tell about it.
URL:https://www.framtidstaget.se/event/excitement-from-a-quote-about-charity-2/
LOCATION:San Diego Zoo\, San Diego\, 92101\, United States
CATEGORIES:Education,Vaccine
ATTACH;FMTTYPE=image/jpeg:https://www.framtidstaget.se/wp-content/uploads/2020/09/vcn-post-3-min.jpg
ORGANIZER;CN="Sammy Sosa":MAILTO:baseball@hotmail.com
END:VEVENT
END:VCALENDAR